BEGIN:VCALENDAR
VERSION:2.0
PRODID:-//Mairie de Salvagnac - ECPv4.6.16//NONSGML v1.0//EN
CALSCALE:GREGORIAN
METHOD:PUBLISH
X-WR-CALNAME:Mairie de Salvagnac
X-ORIGINAL-URL:https://www.salvagnac.fr
X-WR-CALDESC:Events for Mairie de Salvagnac
BEGIN:VEVENT
DTSTART;TZID=UTC+1:20260314T200000
DTEND;TZID=UTC+1:20260314T200000
DTSTAMP:20260421T091742
CREATED:20260223T161306Z
LAST-MODIFIED:20260223T161352Z
UID:6222-1773518400-1773518400@www.salvagnac.fr
SUMMARY:La Saint Patrick à Salvagnac
DESCRIPTION: \n
URL:https://www.salvagnac.fr/evenement/6222/
LOCATION:Salvagnac\, 81630
CATEGORIES:animation
ATTACH;FMTTYPE=image/jpeg:https://www.salvagnac.fr/wp-content/uploads/2026/02/Affiche-St-Patrick.jpg
END:VEVENT
END:VCALENDAR