BEGIN:VCALENDAR
VERSION:2.0
PRODID:-//Mairie de Salvagnac - ECPv4.6.16//NONSGML v1.0//EN
CALSCALE:GREGORIAN
METHOD:PUBLISH
X-WR-CALNAME:Mairie de Salvagnac
X-ORIGINAL-URL:https://www.salvagnac.fr
X-WR-CALDESC:Events for Mairie de Salvagnac
BEGIN:VEVENT
DTSTART;TZID=UTC+1:20230902T213000
DTEND;TZID=UTC+1:20230902T213000
DTSTAMP:20260424T002533
CREATED:20230722T145621Z
LAST-MODIFIED:20230821T142424Z
UID:4619-1693690200-1693690200@www.salvagnac.fr
SUMMARY:ciné plein air La traversée de Paris
DESCRIPTION:Dans le cadre du forum des associations Lumen&Co présente sa séance de cinéma en plein air avec un film du patrimoine \n“La traversée de Paris” \n
URL:https://www.salvagnac.fr/evenement/cine-plein-air-la-traversee-de-paris/
LOCATION:Allées Jean Jaurès\, Salvagnac\, 81630\, France
CATEGORIES:cinéma,cinéma
ATTACH;FMTTYPE=image/png:https://www.salvagnac.fr/wp-content/uploads/2023/07/Capture-d’écran-2023-06-17-à-06.50.05.png
ORGANIZER;CN="lumen%20%26%20Co":MAILTO:lumen.co@free.fr
END:VEVENT
END:VCALENDAR