BEGIN:VCALENDAR
VERSION:2.0
PRODID:-//Mairie de Salvagnac - ECPv4.6.16//NONSGML v1.0//EN
CALSCALE:GREGORIAN
METHOD:PUBLISH
X-WR-CALNAME:Mairie de Salvagnac
X-ORIGINAL-URL:https://www.salvagnac.fr
X-WR-CALDESC:Events for Mairie de Salvagnac
BEGIN:VEVENT
DTSTART;TZID=UTC+1:20221112T210000
DTEND;TZID=UTC+1:20221112T210000
DTSTAMP:20260421T091040
CREATED:20220914T140636Z
LAST-MODIFIED:20220926T142841Z
UID:4131-1668286800-1668286800@www.salvagnac.fr
SUMMARY:Concert COCO PRALINE
DESCRIPTION: Samedi 12 novembre :  \nconcert Coco Praline : Chansons intimes et Groove Ultime\nBienvenu(e)s dans un concert où les corps jubilent !\nSur des rythmes du Nordeste du Brésil\, Marion et Zoë vous entonnent leurs chansons\, accompagnées par un percussionniste affuté et un saxophoniste virevoltant.\nLa folie douce nous enivre\, jusqu’à danser Côco\, Forro\, Ciranda ! \nEt comme d’habitude petit repas maison sur réservation\nTarif concert 10€ réduit 7€ enfant gratuit\nTarif repas 7\,50€ enfant 5€ \n  \n
URL:https://www.salvagnac.fr/evenement/concert-coco-praline/
CATEGORIES:Concert
ATTACH;FMTTYPE=image/jpeg:https://www.salvagnac.fr/wp-content/uploads/2022/09/Affiche-Coco.jpeg
ORGANIZER;CN="Le%20Galetas%20Places%20en%20F%C3%AAte":MAILTO:galetas.salvagnac@gmail.com
END:VEVENT
END:VCALENDAR