BEGIN:VCALENDAR
VERSION:2.0
PRODID:-//Mairie de Salvagnac - ECPv4.6.16//NONSGML v1.0//EN
CALSCALE:GREGORIAN
METHOD:PUBLISH
X-WR-CALNAME:Mairie de Salvagnac
X-ORIGINAL-URL:https://www.salvagnac.fr
X-WR-CALDESC:Events for Mairie de Salvagnac
BEGIN:VEVENT
DTSTART;TZID=UTC+1:20230408T210000
DTEND;TZID=UTC+1:20230408T210000
DTSTAMP:20260424T013751
CREATED:20230222T085233Z
LAST-MODIFIED:20230329T122004Z
UID:4352-1680987600-1680987600@www.salvagnac.fr
SUMMARY:Concert COMBO KARIB
DESCRIPTION:Calypso\, Biguine\, Mento\, Konpa\nQuatre musicien-e-s … trois voix et neuf instruments !\nCes joyeux lurons vous invitent à embarquer pour Haïti\, Trinidad\, Cuba\, la Martinique\, la Jamaïque et vivre un voyage musical haut en couleur\, sensuel\, chargé d’histoire et plein de surprises !\nUn concert à danser ou à écouter les doigts de pied en éventail. \n  \nTarif concert 10€ réduit 7€ enfant gratuit\nTarif repas 8€ enfant 5€ \n
URL:https://www.salvagnac.fr/evenement/concert-combo-karib/
CATEGORIES:animation,Concert,Vie associative
ATTACH;FMTTYPE=image/jpeg:https://www.salvagnac.fr/wp-content/uploads/2023/02/Affiche-ComboKarib.jpeg
ORGANIZER;CN="Le%20Galetas%20Places%20en%20F%C3%AAte":MAILTO:galetas.salvagnac@gmail.com
END:VEVENT
END:VCALENDAR