BEGIN:VCALENDAR
VERSION:2.0
PRODID:-//Mairie de Salvagnac - ECPv4.6.16//NONSGML v1.0//EN
CALSCALE:GREGORIAN
METHOD:PUBLISH
X-WR-CALNAME:Mairie de Salvagnac
X-ORIGINAL-URL:https://www.salvagnac.fr
X-WR-CALDESC:Events for Mairie de Salvagnac
BEGIN:VEVENT
DTSTART;TZID=UTC+1:20200307T210000
DTEND;TZID=UTC+1:20200307T210000
DTSTAMP:20260424T044935
CREATED:20191106T091033Z
LAST-MODIFIED:20200228T092730Z
UID:2871-1583614800-1583614800@www.salvagnac.fr
SUMMARY:Concert JÉRÉMIE BOSSONE
DESCRIPTION: \n  Sa voix atypique\, son goût viscéral pour les histoires\, la flamboyance baroque de ses musiques\, la rigueur technique de ses chansons\, leur puissance émotionnelle et sa manière de les incarner sur scène\, tout cela fait de Jérémie Bossone un ovni dans le paysage de la chanson française. \nCe concert en partenariat avec l’Oiseau Lyre Compagnie et ses “Chantons sous les toits” fait partie du dispositif Initiatives traversières qui vous permettra de voir un aperçu du travail de deux illustratrices rabastinoises : Soline Gary et Magali Bardos \nconcert à 21h\, précédé du traditionnel repas maison sur réservation obligatoire à 19h30 \ntarifs : concert 7\,50€( gratuit moins de 10ans)\, repas 7\,50€ (5€moins de 10ans) \n
URL:https://www.salvagnac.fr/evenement/concert-jeremie-bossone/
CATEGORIES:Concert,Exposition
ATTACH;FMTTYPE=image/jpeg:https://www.salvagnac.fr/wp-content/uploads/2019/11/J-Bossone.jpg
ORGANIZER;CN="Le%20Galetas%20Places%20en%20F%C3%AAte":MAILTO:galetas.salvagnac@gmail.com
END:VEVENT
END:VCALENDAR