BEGIN:VCALENDAR
VERSION:2.0
PRODID:-//Mairie de Salvagnac - ECPv4.6.16//NONSGML v1.0//EN
CALSCALE:GREGORIAN
METHOD:PUBLISH
X-WR-CALNAME:Mairie de Salvagnac
X-ORIGINAL-URL:https://www.salvagnac.fr
X-WR-CALDESC:Events for Mairie de Salvagnac
BEGIN:VEVENT
DTSTART;TZID=UTC+1:20250804T210000
DTEND;TZID=UTC+1:20250804T210000
DTSTAMP:20260423T233816
CREATED:20250624T182309Z
LAST-MODIFIED:20250624T182309Z
UID:5610-1754341200-1754341200@www.salvagnac.fr
SUMMARY:Loto du CCAS
DESCRIPTION: \n
URL:https://www.salvagnac.fr/evenement/loto-du-ccas-5/
LOCATION:Allées Jean Jaurès\, Salvagnac\, 81630\, France
CATEGORIES:Loto
ATTACH;FMTTYPE=image/jpeg:https://www.salvagnac.fr/wp-content/uploads/2025/06/loto.jpg
ORGANIZER;CN="CCAS%20Salvagnac":MAILTO:mairie.salvagnac@wanadoo.fr
END:VEVENT
END:VCALENDAR