BEGIN:VCALENDAR
VERSION:2.0
PRODID:-//Mairie de Salvagnac - ECPv4.6.16//NONSGML v1.0//EN
CALSCALE:GREGORIAN
METHOD:PUBLISH
X-WR-CALNAME:Mairie de Salvagnac
X-ORIGINAL-URL:https://www.salvagnac.fr
X-WR-CALDESC:Events for Mairie de Salvagnac
BEGIN:VEVENT
DTSTART;VALUE=DATE:20210626
DTEND;VALUE=DATE:20210627
DTSTAMP:20260424T033824
CREATED:20210608T080059Z
LAST-MODIFIED:20210608T081445Z
UID:3471-1624665600-1624751999@www.salvagnac.fr
SUMMARY:Vide grenier
DESCRIPTION:L’association AMIS organise son vide grenier – qui avait du être annulé en raison de la crise sanitaire- le samedi 26 juin 2021 sur les allées Jean Jaurès. \nL’installation se fera de 14 heures à 15h30\, l’ouverture au public de 16 heures à 22 heures. \nRenseignements\, informations et réservations auprès de Colette Mathieu au 06 32 30 89 17 ou 05 63 40 55 07 \namis.sport.salvagnac@gmail.com \n
URL:https://www.salvagnac.fr/evenement/vide-grenier-3/
LOCATION:Allées Jean Jaurès\, Salvagnac\, 81630\, France
CATEGORIES:animation
END:VEVENT
END:VCALENDAR