BEGIN:VCALENDAR
VERSION:2.0
PRODID:-//Mairie de Salvagnac - ECPv4.6.16//NONSGML v1.0//EN
CALSCALE:GREGORIAN
METHOD:PUBLISH
X-WR-CALNAME:Mairie de Salvagnac
X-ORIGINAL-URL:https://www.salvagnac.fr
X-WR-CALDESC:Events for Mairie de Salvagnac
BEGIN:VEVENT
DTSTART;TZID=UTC+1:20230917T090000
DTEND;TZID=UTC+1:20230917T090000
DTSTAMP:20260423T220434
CREATED:20230708T091906Z
LAST-MODIFIED:20230717T145734Z
UID:4576-1694941200-1694941200@www.salvagnac.fr
SUMMARY:VIDE GRENIER
DESCRIPTION:\n\n\n\nVide-grenier\nL’association AMIS organise son traditionnel VIDE-GRENIER le dimanche 17 septembre 2023\nLes inscriptions seront à retirer à la mairie\, la bibliothèque ou chez les commerçants à partir du 15 août.\nTarif de l’emplacement (5 mètres) 10€\nRenseignements auprès de Colette Mathieu 05 63 40 55 07 ou 06 32 30 89 17\n\n\nContrat Vide grenier AMIS  avec fiche d’inscription à imprimer\n\n\n\n
URL:https://www.salvagnac.fr/evenement/vide-grenier-5/
LOCATION:Allées Jean Jaurès\, Salvagnac\, 81630\, France
CATEGORIES:animation
END:VEVENT
END:VCALENDAR